Workbook

Sheet 一覧
A1: 昇給通知書 一覧（エクセル版）
A2: 黄色のセルに入力してください。灰色のセルは自動計算です。10〜11行目は記入例なので、上書きして使えます。通知書シートのB3に社員番号を入れると、その人の昇給通知書になります。
A4: 会社名 | B4: 株式会社サンプル
A5: 所在地 | B5: 〒100-0005 東京都千代田区丸の内1-1-1
A6: 代表取締役名 | B6: 山田 花子
A7: 問い合わせ先 | B7: 人事部 鈴木（電話 03-1234-5678）
A9: 社員番号 | B9: 氏名 | C9: 所属 | D9: 役職 | E9: 通知日 | F9: 適用開始日 | G9: 反映する給与の支給日 | H9: 昇給の理由 | I9: 理由の詳細 | J9: 改定前 基本給 | K9: 改定後 基本給 | L9: 手当の名称（任意） | M9: 改定前 手当 | N9: 改定後 手当 | O9: 改定前 月額合計 | P9: 改定後 月額合計 | Q9: 昇給額（月額） | R9: 昇給率 | S9: 健康保険の等級の目安 | T9: 受領確認欄
A10: 1 | B10: 田中 太郎 | C10: 営業部 | E10: 46465 | F10: 46478 | G10: 46502 | H10: 人事評価 | I10: 2026年度の人事評価（評価A）に基づく昇給 | J10: 280000 | K10: 292000 | O10: =IF(OR(B10="",J10=""),"",J10+N(M10)) | P10: =IF(OR(B10="",K10=""),"",K10+N(N10)) | Q10: =IF(OR(O10="",P10=""),"",P10-O10) | R10: =IF(OR(Q10="",N(O10)=0),"",Q10/O10) | S10: =IF(OR(O10="",P10=""),"",MATCH(O10,'等級表'!$C$4:$C$53,1)&"等級→"&MATCH(P10,'等級表'!$C$4:$C$53,1)&"等級"&IF(MATCH(P10,'等級表'!$C$4:$C$53,1)-MATCH(O10,'等級表'!$C$4:$C$53,1)>=2,"（2等級以上：随時改定の見込み）","")) | T10: なし
A11: 2 | B11: 佐藤 花子 | C11: 開発部 | D11: 主任 | E11: 46465 | F11: 46478 | G11: 46502 | H11: 昇格・昇進 | I11: 主任への昇格に伴う昇給 | J11: 300000 | K11: 320000 | L11: 役職手当 | M11: 0 | N11: 10000 | O11: =IF(OR(B11="",J11=""),"",J11+N(M11)) | P11: =IF(OR(B11="",K11=""),"",K11+N(N11)) | Q11: =IF(OR(O11="",P11=""),"",P11-O11) | R11: =IF(OR(Q11="",N(O11)=0),"",Q11/O11) | S11: =IF(OR(O11="",P11=""),"",MATCH(O11,'等級表'!$C$4:$C$53,1)&"等級→"&MATCH(P11,'等級表'!$C$4:$C$53,1)&"等級"&IF(MATCH(P11,'等級表'!$C$4:$C$53,1)-MATCH(O11,'等級表'!$C$4:$C$53,1)>=2,"（2等級以上：随時改定の見込み）","")) | T11: あり
O12: =IF(OR(B12="",J12=""),"",J12+N(M12)) | P12: =IF(OR(B12="",K12=""),"",K12+N(N12)) | Q12: =IF(OR(O12="",P12=""),"",P12-O12) | R12: =IF(OR(Q12="",N(O12)=0),"",Q12/O12) | S12: =IF(OR(O12="",P12=""),"",MATCH(O12,'等級表'!$C$4:$C$53,1)&"等級→"&MATCH(P12,'等級表'!$C$4:$C$53,1)&"等級"&IF(MATCH(P12,'等級表'!$C$4:$C$53,1)-MATCH(O12,'等級表'!$C$4:$C$53,1)>=2,"（2等級以上：随時改定の見込み）",""))
O13: =IF(OR(B13="",J13=""),"",J13+N(M13)) | P13: =IF(OR(B13="",K13=""),"",K13+N(N13)) | Q13: =IF(OR(O13="",P13=""),"",P13-O13) | R13: =IF(OR(Q13="",N(O13)=0),"",Q13/O13) | S13: =IF(OR(O13="",P13=""),"",MATCH(O13,'等級表'!$C$4:$C$53,1)&"等級→"&MATCH(P13,'等級表'!$C$4:$C$53,1)&"等級"&IF(MATCH(P13,'等級表'!$C$4:$C$53,1)-MATCH(O13,'等級表'!$C$4:$C$53,1)>=2,"（2等級以上：随時改定の見込み）",""))
O14: =IF(OR(B14="",J14=""),"",J14+N(M14)) | P14: =IF(OR(B14="",K14=""),"",K14+N(N14)) | Q14: =IF(OR(O14="",P14=""),"",P14-O14) | R14: =IF(OR(Q14="",N(O14)=0),"",Q14/O14) | S14: =IF(OR(O14="",P14=""),"",MATCH(O14,'等級表'!$C$4:$C$53,1)&"等級→"&MATCH(P14,'等級表'!$C$4:$C$53,1)&"等級"&IF(MATCH(P14,'等級表'!$C$4:$C$53,1)-MATCH(O14,'等級表'!$C$4:$C$53,1)>=2,"（2等級以上：随時改定の見込み）",""))
O15: =IF(OR(B15="",J15=""),"",J15+N(M15)) | P15: =IF(OR(B15="",K15=""),"",K15+N(N15)) | Q15: =IF(OR(O15="",P15=""),"",P15-O15) | R15: =IF(OR(Q15="",N(O15)=0),"",Q15/O15) | S15: =IF(OR(O15="",P15=""),"",MATCH(O15,'等級表'!$C$4:$C$53,1)&"等級→"&MATCH(P15,'等級表'!$C$4:$C$53,1)&"等級"&IF(MATCH(P15,'等級表'!$C$4:$C$53,1)-MATCH(O15,'等級表'!$C$4:$C$53,1)>=2,"（2等級以上：随時改定の見込み）",""))
O16: =IF(OR(B16="",J16=""),"",J16+N(M16)) | P16: =IF(OR(B16="",K16=""),"",K16+N(N16)) | Q16: =IF(OR(O16="",P16=""),"",P16-O16) | R16: =IF(OR(Q16="",N(O16)=0),"",Q16/O16) | S16: =IF(OR(O16="",P16=""),"",MATCH(O16,'等級表'!$C$4:$C$53,1)&"等級→"&MATCH(P16,'等級表'!$C$4:$C$53,1)&"等級"&IF(MATCH(P16,'等級表'!$C$4:$C$53,1)-MATCH(O16,'等級表'!$C$4:$C$53,1)>=2,"（2等級以上：随時改定の見込み）",""))
O17: =IF(OR(B17="",J17=""),"",J17+N(M17)) | P17: =IF(OR(B17="",K17=""),"",K17+N(N17)) | Q17: =IF(OR(O17="",P17=""),"",P17-O17) | R17: =IF(OR(Q17="",N(O17)=0),"",Q17/O17) | S17: =IF(OR(O17="",P17=""),"",MATCH(O17,'等級表'!$C$4:$C$53,1)&"等級→"&MATCH(P17,'等級表'!$C$4:$C$53,1)&"等級"&IF(MATCH(P17,'等級表'!$C$4:$C$53,1)-MATCH(O17,'等級表'!$C$4:$C$53,1)>=2,"（2等級以上：随時改定の見込み）",""))
O18: =IF(OR(B18="",J18=""),"",J18+N(M18)) | P18: =IF(OR(B18="",K18=""),"",K18+N(N18)) | Q18: =IF(OR(O18="",P18=""),"",P18-O18) | R18: =IF(OR(Q18="",N(O18)=0),"",Q18/O18) | S18: =IF(OR(O18="",P18=""),"",MATCH(O18,'等級表'!$C$4:$C$53,1)&"等級→"&MATCH(P18,'等級表'!$C$4:$C$53,1)&"等級"&IF(MATCH(P18,'等級表'!$C$4:$C$53,1)-MATCH(O18,'等級表'!$C$4:$C$53,1)>=2,"（2等級以上：随時改定の見込み）",""))
O19: =IF(OR(B19="",J19=""),"",J19+N(M19)) | P19: =IF(OR(B19="",K19=""),"",K19+N(N19)) | Q19: =IF(OR(O19="",P19=""),"",P19-O19) | R19: =IF(OR(Q19="",N(O19)=0),"",Q19/O19) | S19: =IF(OR(O19="",P19=""),"",MATCH(O19,'等級表'!$C$4:$C$53,1)&"等級→"&MATCH(P19,'等級表'!$C$4:$C$53,1)&"等級"&IF(MATCH(P19,'等級表'!$C$4:$C$53,1)-MATCH(O19,'等級表'!$C$4:$C$53,1)>=2,"（2等級以上：随時改定の見込み）",""))
O20: =IF(OR(B20="",J20=""),"",J20+N(M20)) | P20: =IF(OR(B20="",K20=""),"",K20+N(N20)) | Q20: =IF(OR(O20="",P20=""),"",P20-O20) | R20: =IF(OR(Q20="",N(O20)=0),"",Q20/O20) | S20: =IF(OR(O20="",P20=""),"",MATCH(O20,'等級表'!$C$4:$C$53,1)&"等級→"&MATCH(P20,'等級表'!$C$4:$C$53,1)&"等級"&IF(MATCH(P20,'等級表'!$C$4:$C$53,1)-MATCH(O20,'等級表'!$C$4:$C$53,1)>=2,"（2等級以上：随時改定の見込み）",""))
O21: =IF(OR(B21="",J21=""),"",J21+N(M21)) | P21: =IF(OR(B21="",K21=""),"",K21+N(N21)) | Q21: =IF(OR(O21="",P21=""),"",P21-O21) | R21: =IF(OR(Q21="",N(O21)=0),"",Q21/O21) | S21: =IF(OR(O21="",P21=""),"",MATCH(O21,'等級表'!$C$4:$C$53,1)&"等級→"&MATCH(P21,'等級表'!$C$4:$C$53,1)&"等級"&IF(MATCH(P21,'等級表'!$C$4:$C$53,1)-MATCH(O21,'等級表'!$C$4:$C$53,1)>=2,"（2等級以上：随時改定の見込み）",""))
O22: =IF(OR(B22="",J22=""),"",J22+N(M22)) | P22: =IF(OR(B22="",K22=""),"",K22+N(N22)) | Q22: =IF(OR(O22="",P22=""),"",P22-O22) | R22: =IF(OR(Q22="",N(O22)=0),"",Q22/O22) | S22: =IF(OR(O22="",P22=""),"",MATCH(O22,'等級表'!$C$4:$C$53,1)&"等級→"&MATCH(P22,'等級表'!$C$4:$C$53,1)&"等級"&IF(MATCH(P22,'等級表'!$C$4:$C$53,1)-MATCH(O22,'等級表'!$C$4:$C$53,1)>=2,"（2等級以上：随時改定の見込み）",""))
O23: =IF(OR(B23="",J23=""),"",J23+N(M23)) | P23: =IF(OR(B23="",K23=""),"",K23+N(N23)) | Q23: =IF(OR(O23="",P23=""),"",P23-O23) | R23: =IF(OR(Q23="",N(O23)=0),"",Q23/O23) | S23: =IF(OR(O23="",P23=""),"",MATCH(O23,'等級表'!$C$4:$C$53,1)&"等級→"&MATCH(P23,'等級表'!$C$4:$C$53,1)&"等級"&IF(MATCH(P23,'等級表'!$C$4:$C$53,1)-MATCH(O23,'等級表'!$C$4:$C$53,1)>=2,"（2等級以上：随時改定の見込み）",""))
... O109: =IF(OR(B109="",J109=""),"",J109+N(M109)) | P109: =IF(OR(B109="",K109=""),"",K109+N(N109)) | Q109: =IF(OR(O109="",P109=""),"",P109-O109) | R109: =IF(OR(Q109="",N(O109)=0),"",Q109/O109) | S109: =IF(OR(O109="",P109=""),"",MATCH(O109,'等級表'!$C$4:$C$53,1)&"等級→"&MATCH(P109,'等級表'!$C$4:$C$53,1)&"等級"&IF(MATCH(P109,'等級表'!$C$4:$C$53,1)-MATCH(O109,'等級表'!$C$4:$C$53,1)>=2,"（2等級以上：随時改定の見込み）",""))

Sheet 通知書
A1: 昇給通知書（印刷用）
A2: 社員番号を入れると、一覧シートの内容が下の通知書に反映されます。印刷範囲は5行目から下です。
A3: 社員番号 | B3: 1 | H3: row | I3: =IFERROR(MATCH($B$3,'一覧'!$A$10:$A$109,0),0)
H4: name | I4: =IF($I$3=0,"",IF(INDEX('一覧'!$B$10:$B$109,$I$3)="","",INDEX('一覧'!$B$10:$B$109,$I$3)))
E5: =IF($I$7="","",TEXT($I$7,"yyyy年m月d日")) | H5: dept | I5: =IF($I$3=0,"",IF(INDEX('一覧'!$C$10:$C$109,$I$3)="","",INDEX('一覧'!$C$10:$C$109,$I$3)))
H6: position | I6: =IF($I$3=0,"",IF(INDEX('一覧'!$D$10:$D$109,$I$3)="","",INDEX('一覧'!$D$10:$D$109,$I$3)))
A7: =IF($I$4="","",IF($I$5="","",$I$5&" ")&IF($I$6="","",$I$6&" ")&$I$4&" 様") | H7: issue | I7: =IF($I$3=0,"",IF(INDEX('一覧'!$E$10:$E$109,$I$3)="","",INDEX('一覧'!$E$10:$E$109,$I$3)))
H8: eff | I8: =IF($I$3=0,"",IF(INDEX('一覧'!$F$10:$F$109,$I$3)="","",INDEX('一覧'!$F$10:$F$109,$I$3)))
C9: =$I$23 | H9: pay | I9: =IF($I$3=0,"",IF(INDEX('一覧'!$G$10:$G$109,$I$3)="","",INDEX('一覧'!$G$10:$G$109,$I$3)))
C10: =$I$22 | H10: reason | I10: =IF($I$3=0,"",IF(INDEX('一覧'!$H$10:$H$109,$I$3)="","",INDEX('一覧'!$H$10:$H$109,$I$3)))
C11: ="代表取締役 "&$I$24 | H11: detail | I11: =IF($I$3=0,"",IF(INDEX('一覧'!$I$10:$I$109,$I$3)="","",INDEX('一覧'!$I$10:$I$109,$I$3)))
H12: baseBefore | I12: =IF($I$3=0,"",IF(INDEX('一覧'!$J$10:$J$109,$I$3)="","",INDEX('一覧'!$J$10:$J$109,$I$3)))
A13: 昇 給 通 知 書 | H13: baseAfter | I13: =IF($I$3=0,"",IF(INDEX('一覧'!$K$10:$K$109,$I$3)="","",INDEX('一覧'!$K$10:$K$109,$I$3)))
H14: allowName | I14: =IF($I$3=0,"",IF(INDEX('一覧'!$L$10:$L$109,$I$3)="","",INDEX('一覧'!$L$10:$L$109,$I$3)))
A15: 日頃のご尽力に感謝いたします。下記のとおり給与を改定（昇給）することとなりましたので、通知いたします。 | H15: allowBefore | I15: =IF($I$3=0,"",IF(INDEX('一覧'!$M$10:$M$109,$I$3)="","",INDEX('一覧'!$M$10:$M$109,$I$3)))
H16: allowAfter | I16: =IF($I$3=0,"",IF(INDEX('一覧'!$N$10:$N$109,$I$3)="","",INDEX('一覧'!$N$10:$N$109,$I$3)))
H17: totalBefore | I17: =IF($I$3=0,"",IF(INDEX('一覧'!$O$10:$O$109,$I$3)="","",INDEX('一覧'!$O$10:$O$109,$I$3)))
A18: 記 | H18: totalAfter | I18: =IF($I$3=0,"",IF(INDEX('一覧'!$P$10:$P$109,$I$3)="","",INDEX('一覧'!$P$10:$P$109,$I$3)))
H19: raise | I19: =IF($I$3=0,"",IF(INDEX('一覧'!$Q$10:$Q$109,$I$3)="","",INDEX('一覧'!$Q$10:$Q$109,$I$3)))
A20: 1. | B20: 給与の改定 | H20: rate | I20: =IF($I$3=0,"",IF(INDEX('一覧'!$R$10:$R$109,$I$3)="","",INDEX('一覧'!$R$10:$R$109,$I$3)))
B21: 項目 | C21: 改定前 | D21: 改定後 | E21: 増減 | H21: receipt | I21: =IF($I$3=0,"",IF(INDEX('一覧'!$T$10:$T$109,$I$3)="","",INDEX('一覧'!$T$10:$T$109,$I$3)))
B22: ="基本給" | C22: =IF($I$12="","",TEXT($I$12,"#,##0")&"円") | D22: =IF($I$13="","",TEXT($I$13,"#,##0")&"円") | E22: =IF(OR($I$12="",$I$13=""),"",IF($I$13-$I$12>0,"+","")&TEXT($I$13-$I$12,"#,##0")&"円") | H22: company | I22: ='一覧'!$B$4
B23: =IF($I$14<>"",$I$14,"手当") | C23: =IF($I$14<>"",TEXT(IF($I$14<>"",N($I$15),""),"#,##0")&"円","－") | D23: =IF($I$14<>"",TEXT(IF($I$14<>"",N($I$16),""),"#,##0")&"円","－") | E23: =IF($I$14<>"",IF(N($I$16)-N($I$15)>0,"+","")&TEXT(N($I$16)-N($I$15),"#,##0")&"円","－") | H23: companyAddress | I23: ='一覧'!$B$5
B24: ="月額合計" | C24: =IF($I$17="","",TEXT($I$17,"#,##0")&"円") | D24: =IF($I$18="","",TEXT($I$18,"#,##0")&"円") | E24: =IF(OR($I$17="",$I$18=""),"",IF($I$18-$I$17>0,"+","")&TEXT($I$18-$I$17,"#,##0")&"円") | H24: rep | I24: ='一覧'!$B$6
B25: =IF($I$19="","","昇給額：月額"&TEXT($I$19,"#,##0")&"円"&"（年額換算"&TEXT($I$19*12,"#,##0")&"円"&"） 昇給率："&TEXT($I$20,"0.0%")&IF($I$14<>"","（月額合計に対する割合）","（基本給に対する割合）")) | H25: contact | I25: ='一覧'!$B$7
A27: 2. | B27: 適用開始日
B28: =IF($I$8="","",IF($I$8="","",TEXT($I$8,"yyyy年m月d日"))&"から適用します"&IF($I$9="","","（"&IF($I$9="","",TEXT($I$9,"yyyy年m月d日"))&"支給の給与から反映）")&"。")
A30: 3. | B30: 昇給の理由
B31: =$I$10&IF($I$11="","","："&$I$11)
A33: 4. | B33: 賞与・退職金
B34: 適用開始日以降の賞与および退職金のうち基本給を基礎とするものは、改定後の基本給により算定します。詳細は就業規則・賃金規程・退職金規程の定めによります。
A36: 5. | B36: お問い合わせ
B37: ="本件に関するお問い合わせは、"&$I$25&"までお願いいたします。"
F39: 以上
A41: =IF($I$21="あり","受領確認","")
A42: =IF($I$21="あり","上記の通知を受けました。","")
A43: =IF($I$21="あり","受領日 年 月 日 氏名 ＿＿＿＿＿＿＿＿＿＿＿＿","")

Sheet 使い方
A1: 昇給通知書（エクセル版）の使い方
A2: 手順 | B2: 1. 一覧シートの4〜7行目に会社の情報を入れます。2. 10行目から1人1行で対象者を入れます（10〜11行目は記入例）。3. 通知書シートのB3に社員番号を入れ、印刷します。
A3: 昇給額・昇給率 | B3: 月額合計（基本給＋手当）の改定後から改定前を引いた額が昇給額、昇給額÷改定前の月額合計が昇給率です。手当を入れない場合は基本給に対する割合になります。
A4: 等級の目安 | B4: 改定前後の月額合計を、健康保険の標準報酬月額の等級表（等級表シート）に当てはめた目安です。2等級以上の差があれば、随時改定（月額変更届）の対象になる見込みです。実際の判定は、変動月から3か月の報酬（残業代などを含む）の平均で行い、3か月とも支払基礎日数が17日以上必要です。新しい標準報酬月額は4か月目から適用されます。
A5: 定時決定 | B5: 随時改定に当たらない昇給は、4〜6月の報酬をもとにする定時決定（算定基礎届は7月10日まで）で、9月から反映されます。
A6: 文例とオンライン版 | B6: 昇給辞令の形式、昇給のお知らせ例文、メール文例、日本語・英語のPDFを作れるオンライン版はこちら：https://www.saiyouteam.com/jp/playbook/hr-operations/hr-notice-templates/salary-increase-notice/
A7: 出典 | B7: 日本年金機構「随時改定（月額変更届）」「定時決定（算定基礎届）」／協会けんぽ「令和8年度保険料額表」
A8: ご注意 | B8: 一般的な目安であり、専門家の助言に代わるものではありません。2026年10月時点の公表情報に基づきます。個別のケースは社会保険労務士にご確認ください。

Sheet 等級表
A1: 健康保険の標準報酬月額の等級表（協会けんぽ 令和8年度保険料額表）
A2: 等級の目安の計算に使います。厚生年金保険の等級（1〜32等級）は、健康保険の4〜35等級に当たります。
A3: 等級 | B3: 標準報酬月額 | C3: 報酬月額（以上） | D3: 報酬月額（未満）
A4: 1 | B4: 58000 | C4: 0 | D4: 63000
A5: 2 | B5: 68000 | C5: 63000 | D5: 73000
A6: 3 | B6: 78000 | C6: 73000 | D6: 83000
A7: 4 | B7: 88000 | C7: 83000 | D7: 93000
A8: 5 | B8: 98000 | C8: 93000 | D8: 101000
A9: 6 | B9: 104000 | C9: 101000 | D9: 107000
A10: 7 | B10: 110000 | C10: 107000 | D10: 114000
A11: 8 | B11: 118000 | C11: 114000 | D11: 122000
A12: 9 | B12: 126000 | C12: 122000 | D12: 130000
A13: 10 | B13: 134000 | C13: 130000 | D13: 138000
A14: 11 | B14: 142000 | C14: 138000 | D14: 146000
A15: 12 | B15: 150000 | C15: 146000 | D15: 155000
... A52: 49 | B52: 1330000 | C52: 1295000 | D52: 1355000
A53: 50 | B53: 1390000 | C53: 1355000
